BEGIN:VCALENDAR
VERSION:2.0
PRODID:-//malobeo – alternatives café und anarchistische bibliothek - ECPv5.14.0.1//NONSGML v1.0//EN
CALSCALE:GREGORIAN
METHOD:PUBLISH
X-WR-CALNAME:malobeo – alternatives café und anarchistische bibliothek
X-ORIGINAL-URL:https://malobeo.org
X-WR-CALDESC:Veranstaltungen für malobeo – alternatives café und anarchistische bibliothek
BEGIN:VTIMEZONE
TZID:Europe/Berlin
BEGIN:DAYLIGHT
TZOFFSETFROM:+0100
TZOFFSETTO:+0200
TZNAME:CEST
DTSTART:20180325T010000
END:DAYLIGHT
BEGIN:STANDARD
TZOFFSETFROM:+0200
TZOFFSETTO:+0100
TZNAME:CET
DTSTART:20181028T010000
END:STANDARD
END:VTIMEZONE
BEGIN:VEVENT
DTSTART;TZID=Europe/Berlin:20180706T190000
DTEND;TZID=Europe/Berlin:20180706T230000
DTSTAMP:20260425T202212
CREATED:20180705T202023Z
LAST-MODIFIED:20180705T202023Z
UID:788-1530903600-1530918000@malobeo.org
SUMMARY:6.7.2018 – Chill&Grill
DESCRIPTION:Nach einem durchaus anstrengenden Gesamtplenum am 1.7. wollen wir das gute Wetter bei veganem BBQ genießen und in lockerer Atmosphäre ins Gespräch kommen. Wie der Abend wird\, werden wir sehen. \nFür einen Grundstock an Grillzeug ist gesorgt\, bringt aber gerne noch Salate\, Aufstriche\, oder was euch sonst noch einfällt\, mit. \n  \n16:00 offenes Plenum „AG Finanzen & Ladenbetrieb“\n16:30 Vorbereitung von Speis und Trank\n19:00 Chill&Grill
URL:https://malobeo.org/event/6-7-2018-chillgrill/
LOCATION:malobeo\, Kamenzer Straße 38\, Dresden\, Sucksen\, 01099\, Germany
CATEGORIES:Offenes Treffen
ATTACH;FMTTYPE=image/jpeg:https://malobeo.org/wp-content/uploads/2018/07/chillgrill.jpg
END:VEVENT
END:VCALENDAR