BEGIN:VCALENDAR
VERSION:2.0
PRODID:-//malobeo – alternatives café und anarchistische bibliothek - ECPv5.14.0.1//NONSGML v1.0//EN
CALSCALE:GREGORIAN
METHOD:PUBLISH
X-WR-CALNAME:malobeo – alternatives café und anarchistische bibliothek
X-ORIGINAL-URL:https://malobeo.org
X-WR-CALDESC:Veranstaltungen für malobeo – alternatives café und anarchistische bibliothek
BEGIN:VTIMEZONE
TZID:Europe/Berlin
BEGIN:DAYLIGHT
TZOFFSETFROM:+0100
TZOFFSETTO:+0200
TZNAME:CEST
DTSTART:20180325T010000
END:DAYLIGHT
BEGIN:STANDARD
TZOFFSETFROM:+0200
TZOFFSETTO:+0100
TZNAME:CET
DTSTART:20181028T010000
END:STANDARD
END:VTIMEZONE
BEGIN:VEVENT
DTSTART;TZID=Europe/Berlin:20180608T200000
DTEND;TZID=Europe/Berlin:20180608T230000
DTSTAMP:20260420T140838
CREATED:20180604T183259Z
LAST-MODIFIED:20180604T183259Z
UID:745-1528488000-1528498800@malobeo.org
SUMMARY:8.6.2018 – KüfA & Vortrag: Syrien - der Wandel und der Kollaps
DESCRIPTION:Der Vortrag wird gehalten von Nouman (ehemaliger Kriegsjournalist) und Wissam (Syrischer Aktivist)\, die beide seit einiger Zeit in Dresden studieren und ursprünglich aus Syrien kommen. Sie analysieren darin die politischen\, sozioökonomischen und rechtlichen Ausgangslagen zwischen 2000 und 2013\, die zu den Aufständen in Syrien geführt haben und erläutern ausführlich warum die Aufstände nicht auf religiöse und ethnische Konflikte reduziert werden können. Sie wollen die Darstellung der westlichen Medien kritisieren und die neoliberalistischen Verhältnisse des Assadsregime aufschlüsseln. \n  \n20:00 Küche für Alle\n21:00 Vortrag
URL:https://malobeo.org/event/8-6-2018-kufa-vortrag-syrien-der-wandel-und-der-kollaps/
LOCATION:malobeo\, Kamenzer Straße 38\, Dresden\, Sucksen\, 01099\, Germany
CATEGORIES:Workshop, Vortrag, Diskussion
ATTACH;FMTTYPE=image/jpeg:https://malobeo.org/wp-content/uploads/2018/06/34398089_1266986320099837_7854795933643440128_n.jpg
END:VEVENT
END:VCALENDAR