BEGIN:VCALENDAR
VERSION:2.0
PRODID:-//malobeo – alternatives café und anarchistische bibliothek - ECPv5.14.0.1//NONSGML v1.0//EN
CALSCALE:GREGORIAN
METHOD:PUBLISH
X-WR-CALNAME:malobeo – alternatives café und anarchistische bibliothek
X-ORIGINAL-URL:https://malobeo.org
X-WR-CALDESC:Veranstaltungen für malobeo – alternatives café und anarchistische bibliothek
BEGIN:VTIMEZONE
TZID:UTC
BEGIN:STANDARD
TZOFFSETFROM:+0000
TZOFFSETTO:+0000
TZNAME:UTC
DTSTART:20170101T000000
END:STANDARD
END:VTIMEZONE
BEGIN:VEVENT
DTSTART;TZID=UTC:20171006T200000
DTEND;TZID=UTC:20171006T230000
DTSTAMP:20260420T210044
CREATED:20171001T061247Z
LAST-MODIFIED:20180205T181219Z
UID:60-1507320000-1507330800@malobeo.org
SUMMARY:6.10.2017 – Vortrag: Die Schwarz-Roten Bergsteiger_innen stellen sich vor!
DESCRIPTION:KüfA & Vortrag – Die Schwarz-Roten Bergsteiger_innen stellen sich vor!\nAls AG der FAU in Dresden pflegen wir im Elbsandsteingebirge eine Baude\, die wir politischen Gruppen als Unterkunft zur Verfügung stellen\, machen Gedenkarbeit und halten darüber Vorträge. Manchmal gehen wir gemeinsam klettern oder wandern\, außerdem machen wir antifaschistische Arbeit und Agitation in der Region. Unser langfristiges Ziel ist\, in der sächsischen Schweiz ein libertäres Zentrum aufzubauen. Warum wir gerade dort Gedenkarbeit betreiben und wo wir uns auf dem Weg zum libertären Zentrum befinden\, erfahrt ihr am 6.10. im malobeo. Wir freuen uns auf euch!
URL:https://malobeo.org/event/die-schwarz-roten-bergsteiger_innen-stellen-sich-vor/
LOCATION:malobeo\, Kamenzer Straße 38\, Dresden\, Sucksen\, 01099\, Germany
CATEGORIES:Workshop, Vortrag, Diskussion
ATTACH;FMTTYPE=image/jpeg:https://malobeo.org/wp-content/uploads/2017/10/22046950_1122412254557245_2987073505513619593_n.jpg
END:VEVENT
END:VCALENDAR