BEGIN:VCALENDAR
VERSION:2.0
PRODID:-//malobeo – alternatives café und anarchistische bibliothek - ECPv5.14.0.1//NONSGML v1.0//EN
CALSCALE:GREGORIAN
METHOD:PUBLISH
X-WR-CALNAME:malobeo – alternatives café und anarchistische bibliothek
X-ORIGINAL-URL:https://malobeo.org
X-WR-CALDESC:Veranstaltungen für malobeo – alternatives café und anarchistische bibliothek
BEGIN:VTIMEZONE
TZID:Europe/Berlin
BEGIN:DAYLIGHT
TZOFFSETFROM:+0100
TZOFFSETTO:+0200
TZNAME:CEST
DTSTART:20260329T010000
END:DAYLIGHT
BEGIN:STANDARD
TZOFFSETFROM:+0200
TZOFFSETTO:+0100
TZNAME:CET
DTSTART:20261025T010000
END:STANDARD
END:VTIMEZONE
BEGIN:VEVENT
DTSTART;TZID=Europe/Berlin:20260108T180000
DTEND;TZID=Europe/Berlin:20260108T210000
DTSTAMP:20260420T133843
CREATED:20250821T190109Z
LAST-MODIFIED:20251231T130703Z
UID:4075-1767895200-1767906000@malobeo.org
SUMMARY:Do.\, 08.01.2026: KüfA + Vortrag Anarchie\, Normalität und Neurodivergenz
DESCRIPTION:Do.\, 08.01.2026 Anarchie\, Normalität und Neurodivergenz [DE] \n18:00 KüfA/community kitchen \n19:00 Vortrag und Diskussion \n  \nDas Thema Neurodivergenz erhält seit einigen Jahren zunehmend Aufmerksamkeit. Viele begrüßen die Bewusstwerdung darüber als emanzipatorische Chance. Möglicherweise kann von einem neurodivergenten Erwachen gesprochen werden. Andererseits regen sich starke Abwehrreflexe dagegen und es wird versucht\, neurodivergente Personen kapitalistisch verwertbar zu machen. \nIn Anschluss an Robert Chapmans Buch „Empire of Normality“ (2023) schauen wir uns an\, wie Normalität historisch hergestellt wurde\, wie Neurodivergenz gesellschaftlich verhandelt wird und welche Schnittpunkte es zwischen dieser und Anarchismus gibt. Weitergehend mit Jodies Hares Buch „Autismus ist keine Krankheit“ (2025) gehen wir auf eine sensible\, emanzipatorische Perspektve auf die Neurodivergenz-Bewegung ein.\nOhne ausgemachter Experte zu sein\, möchte ich meine bisherigen Überlegungen mit allen Interessierten teilen und ins Gespräch darüber zu kommen. In Anschluss an den Input können wir in Kleingruppen anhand von Thesen und Fragen diskutieren. \nLeider können wir keinen Lärm- und Irritations-geschützten Raum bieten. Wir versuchen eine freundliche Atmosphäre zu schaffen\, in welcher möglichst alle teilhaben können. \n 
URL:https://malobeo.org/event/do-08-01-2026-anarchie-normalitaet-und-neurodivergenz/
CATEGORIES:KüfA,Workshop, Vortrag, Diskussion
ATTACH;FMTTYPE=image/jpeg:https://malobeo.org/wp-content/uploads/2025/08/events_malo-04-scaled.jpg
END:VEVENT
END:VCALENDAR