BEGIN:VCALENDAR
VERSION:2.0
PRODID:-//malobeo – alternatives café und anarchistische bibliothek - ECPv5.14.0.1//NONSGML v1.0//EN
CALSCALE:GREGORIAN
METHOD:PUBLISH
X-WR-CALNAME:malobeo – alternatives café und anarchistische bibliothek
X-ORIGINAL-URL:https://malobeo.org
X-WR-CALDESC:Veranstaltungen für malobeo – alternatives café und anarchistische bibliothek
BEGIN:VTIMEZONE
TZID:Europe/Berlin
BEGIN:DAYLIGHT
TZOFFSETFROM:+0100
TZOFFSETTO:+0200
TZNAME:CEST
DTSTART:20190331T010000
END:DAYLIGHT
BEGIN:STANDARD
TZOFFSETFROM:+0200
TZOFFSETTO:+0100
TZNAME:CET
DTSTART:20191027T010000
END:STANDARD
END:VTIMEZONE
BEGIN:VEVENT
DTSTART;TZID=Europe/Berlin:20190305T180000
DTEND;TZID=Europe/Berlin:20190305T223000
DTSTAMP:20260420T100744
CREATED:20190301T170641Z
LAST-MODIFIED:20190304T200523Z
UID:1270-1551808800-1551825000@malobeo.org
SUMMARY:KüfA und feministischer Film
DESCRIPTION:Der Film handelt von einem Gefangenen\, der im Gefängnis einen feministischen Lesekreis aufbaut. \n18:00 Kochbeginn \n20:30 ist das Essen fertig\, danach kommt der Film
URL:https://malobeo.org/event/kuefa-und-feministischer-film/
LOCATION:malobeo\, Kamenzer Straße 38\, Dresden\, Sucksen\, 01099\, Germany
ATTACH;FMTTYPE=image/jpeg:https://malobeo.org/wp-content/uploads/2019/03/feminist_movie.jpg
END:VEVENT
END:VCALENDAR