BEGIN:VCALENDAR
VERSION:2.0
PRODID:-//malobeo – alternatives café und anarchistische bibliothek - ECPv5.14.0.1//NONSGML v1.0//EN
CALSCALE:GREGORIAN
METHOD:PUBLISH
X-WR-CALNAME:malobeo – alternatives café und anarchistische bibliothek
X-ORIGINAL-URL:https://malobeo.org
X-WR-CALDESC:Veranstaltungen für malobeo – alternatives café und anarchistische bibliothek
BEGIN:VTIMEZONE
TZID:Europe/Berlin
BEGIN:DAYLIGHT
TZOFFSETFROM:+0100
TZOFFSETTO:+0200
TZNAME:CEST
DTSTART:20220327T010000
END:DAYLIGHT
BEGIN:STANDARD
TZOFFSETFROM:+0200
TZOFFSETTO:+0100
TZNAME:CET
DTSTART:20221030T010000
END:STANDARD
END:VTIMEZONE
BEGIN:VEVENT
DTSTART;TZID=Europe/Berlin:20220123T153000
DTEND;TZID=Europe/Berlin:20220123T170000
DTSTAMP:20260420T153245
CREATED:20220127T142513Z
LAST-MODIFIED:20220127T142539Z
UID:2665-1642951800-1642957200@malobeo.org
SUMMARY:23.01. - Lesekreis: Ernährungssouveränität & Tierbefreiung
DESCRIPTION:Ernährungssouveränität & Tierbefreiung\n\n\nLiebe Freund*innen\, Mitstreiter*innen und Interessierte\, \nauch wenn das Jahr schon ein paar Wochen alt ist\, wünschen wir euch allen ein glückliches\, gesundes und aktivistisches neues Jahr. Auch 2022 haben wir uns entschieden mit unseren monatlichen Lesekreisen weiter zu machen. Jeden 4. Sonntag im Monat von 15:30-18 Uhr wollen wir uns mit verschiedenen Themen zum Mensch-Tier-Verhältnis auseinandersetzen\, gemeinsame Texte lesen und uns austauschen. Deshalb laden wir euch ganz herzlich zu unserem 1. Lesekreis im Januar 2022 zum Thema Ernährungssouveränität & Tierbefreiung ein. \n\nWann? Sonntag\, 23. Januar 2022\, 15:30-18 Uhr\nWo? Malobeo\, Kamenzer Straße 38\, 01099 Dresden oder digital\n\n  \nIn unserem 1. Lesekreis 2022 wollen wir uns mit dem Titelthema der Ausgabe 112 des Magazin TIERBEFREIUNG beschäftigen: From Beef to Beans – Ernährungssouveränität\, kleinbäuerliche Tierhaltung und Tierbefreiung. \nWir werden uns zuerst etwas näher mit dem Begriff und der Entstehung von Ernährungssouveränität und der Nyéléni-Bewegung auseinander setzen. Anschließend lesen wir im Text\, wo die Tierbefreiungsbewegung anschlussfähig mit anderen sozialen Bewegungen ist\, etwa den Bewegungen für Ernährungssouveränität und Klimagerechtigkeit – und wie\, beispielsweise beim Thema kleinbäuerliche Tierhaltung\, mit inhaltlichen Differenzen umgegangen wird. Dabei versuchen wir auch\, Perspektiven von außerhalb Europas aufzunehmen: etwa mit einem Interview mit Margaret Robinsons\, die an der Nordostküste des heutigen Nordamerikas lebt und deren Veganismus in indigenen Praktiken verwurzelt ist \nHybridveranstaltung\nUnser nächsten Lesekreis wird im Malobeo stattfinden. Falls ihr online dabei sein wollt\, meldet euch bitte unter tierbefreiung_dd@riseup.net\, dann schicken wir euch den Text als pdf und die Einwahldaten für den zoom-Raum zu. \nHinweis\nAufgrund der aktuellen Infektionszahlen in Sachsen kann unsere Veranstaltung nur unter der 2G-Regel stattfinden. Außerdem bitten wir euch bevor ihr zur Veranstaltung kommt einen Antigen-Schnelltest durchzuführen. Außerdem bitten wir euch im Malobeo eine Mund-& Nasenbedeckung zu tragen und auf die anderen Teilnehmenden Rücksicht zu nehmen. Falls ihr Erkältungssymptome habt\, kommt bitte nicht zur Veranstaltung. \nMore than Words\nIn regelmäßigen Lesekreisen wollen wir uns mit Büchern\, Aufsätzen\, Texten und Schriften zum Mensch-Tier-Verhältnis beschäftigen. Wir möchten sowohl Geschichte als auch aktuelle Diskussionen aufgreifen\, gemeinsam mit euch lesen und in entspannter Atmosphäre mit euch durchdenken. Es ist nicht notwendig den Text im Vorfeld zu lesen. Dafür nehmen wir uns während des Lesekreises Zeit. Außerdem wird es Kuchen\, Kaffee und Tee geben. Unsere Lesekreise sind einsteiger*innenfreundlich gestaltet und es sind keine besonderen Vorkenntnisse nötig. Der Lesekreis soll auch dazu genutzt werden\, um uns besser kennenzulernen und sich gegenseitig auszutauschen. Wenn du Lust hast mitzumachen oder dir den Lesekreis einfach mal angucken möchtest\, komm gerne vorbei.
URL:https://malobeo.org/event/lesekreis-ernaehrungssouveraenitaet-tierbefreiung/
CATEGORIES:Lesekreis,Tierbefreiung Dresden
ATTACH;FMTTYPE=image/jpeg:https://malobeo.org/wp-content/uploads/2022/01/tierbefreiung112.jpg
END:VEVENT
END:VCALENDAR