BEGIN:VCALENDAR
VERSION:2.0
PRODID:-//malobeo – alternatives café und anarchistische bibliothek - ECPv5.14.0.1//NONSGML v1.0//EN
CALSCALE:GREGORIAN
METHOD:PUBLISH
X-WR-CALNAME:malobeo – alternatives café und anarchistische bibliothek
X-ORIGINAL-URL:https://malobeo.org
X-WR-CALDESC:Veranstaltungen für malobeo – alternatives café und anarchistische bibliothek
BEGIN:VTIMEZONE
TZID:Europe/Berlin
BEGIN:DAYLIGHT
TZOFFSETFROM:+0100
TZOFFSETTO:+0200
TZNAME:CEST
DTSTART:20220327T010000
END:DAYLIGHT
BEGIN:STANDARD
TZOFFSETFROM:+0200
TZOFFSETTO:+0100
TZNAME:CET
DTSTART:20221030T010000
END:STANDARD
END:VTIMEZONE
BEGIN:VEVENT
DTSTART;TZID=Europe/Berlin:20220626T153000
DTEND;TZID=Europe/Berlin:20220626T173000
DTSTAMP:20260420T102704
CREATED:20220623T150109Z
LAST-MODIFIED:20220623T150608Z
UID:2937-1656257400-1656264600@malobeo.org
SUMMARY:26.06.: Lesekreis: „Gibt es eine Hilfeleistungspflicht gegenüber nichtmenschlichen Tieren?“
DESCRIPTION:  \nLiebe Freund*innen\, Unterstützer*innen und Interessierte\, \nwir laden euch ganz herzlich zu unserem Lesekreis im Juni 2022 zum Thema: „Gibt es eine Hilfeleistungspflicht gegenüber nichtmenschlichen Tieren?“ von Luise Weinhold ein. \n\nWann? Sonntag\, 26. Juni 2022\, 15:30-18 Uhr\nWo? malobeo\, Kamenzer Straße 38\, 01099 Dresden oder digital\n\nAbstract:\nDiese Arbeit widmet sich der Frage\, ob es eine Hilfeleistungspflicht von menschlichen gegenüber nichtmenschlichen Tieren gibt. Nichtmenschliche Tiere erhalten mindestens in der westlichen Welt immer mehr Aufmerksamkeit und werden immer öfter zum Gegenstand ernsthafter philosophischer\, juristischer und naturwissenschaftlicher Diskussionen. Zahlreiche Tierschutz- und Tierrechtsorganisationen\, die Aufnahme des Tierschutzes ins Grundgesetz\, sowie Berichte in den Medien\, die sich kritisch mit bestehenden Haltungsbedingungen von sog. Haus- und Nutztieren auseinandersetzen oder den Veganismus als Versuch\, andere Tiere vor Leid und Ausbeutung zu bewahren\, zeigen das wachsende Interesse der Bevölkerung an einer Auseinandersetzung mit dem Thema Tierethik. \nLuise Weinhold beginnt bei bestehenden Regelungen zur Hilfeleistung – menschliche und nichtmenschliche Tiere betreffend -\, indem sie das Konzept der Zivilcourage\, die unterlassene Hilfeleistung als Straftatbestand und das geltende Tierschutzgesetz erläutert. Danach skizziert sie einen Entwurf zur Hilfeleistung gegenüber nichtmenschlichen Tieren unter Berücksichtigung antispeziesistischer Ethik\, die über die eingeschränkten Bestimmungen der vorher ausgeführten Regelungen hinausgeht. \nVor der Abschlussbetrachtung geht sie außerdem auf die Umsetzung einer solchen Hilfeleistungspflicht ein\, da sich aufgrund der überwältigenden Zahl nichtmenschlicher Tiere auf unserem Planeten einige praktische Schwierigkeiten ergeben können. \nStudienarbeit aus dem Jahr 2013 im Fachbereich Geschlechterstudien / Gender Studies\, Georg-August-Universität Göttingen\, Sprache: Deutsch \nHybridveranstaltung: Unser nächster Lesekreis wird wieder im Malobeo stattfinden. Falls ihr online dabei sein wollt\, meldet euch bitte unter tierbefreiung_dd@riseup.net\, dann schicken wir euch den Text als pdf. und die Einwahldaten für den Telko-Raum zu. \nHinweis: Wir möchten mit dem Thema Corona weiterhin verantwortungsvoll umgehen. Bei schönem Wetter können wir den Lesekreis im Garten vom Malobeo stattfinden lassen. Da nach unserem Lesekreis eine weitere Gruppe die Räumlichkeiten im Malobeo nutzt\, bitten wir euch im Malobeo eine Mund-& Nasenbedeckung zu tragen und auf die anderen Teilnehmenden Rücksicht zu nehmen. Falls ihr Erkältungssymptome habt\, nutzt bitte das digitale Angebot. \nMore than Words\nIn regelmäßigen Lesekreisen wollen wir uns mit Büchern\, Aufsätzen\, Texten und Schriften zum Mensch-Tier-Verhältnis beschäftigen. Wir möchten sowohl Geschichte als auch aktuelle Diskussionen aufgreifen\, gemeinsam mit euch lesen und in entspannter Atmosphäre mit euch durchdenken. Es ist nicht notwendig den Text im Vorfeld zu lesen. Dafür nehmen wir uns während des Lesekreises Zeit. \nAußerdem wird es Kuchen\, Kaffee und Tee geben. Unsere Lesekreise sind einsteiger*innenfreundlich gestaltet und es sind keine besonderen Vorkenntnisse nötig. Der Lesekreis soll auch dazu genutzt werden\, um uns besser kennenzulernen und sich gegenseitig auszutauschen. Wenn du Lust hast mitzumachen oder dir den Lesekreis einfach mal angucken möchtest\, komm gerne vorbei. \nWir freuen uns auf euch.\nEure tierbefreiung dresden
URL:https://malobeo.org/event/lesekreis-gibt-es-eine-hilfeleistungspflicht-gegenueber-nichtmenschlichen-tieren/
ATTACH;FMTTYPE=image/jpeg:https://malobeo.org/wp-content/uploads/2022/06/bb_weinhold.jpg
END:VEVENT
END:VCALENDAR