BEGIN:VCALENDAR
VERSION:2.0
PRODID:-//malobeo – alternatives café und anarchistische bibliothek - ECPv5.14.0.1//NONSGML v1.0//EN
CALSCALE:GREGORIAN
METHOD:PUBLISH
X-WR-CALNAME:malobeo – alternatives café und anarchistische bibliothek
X-ORIGINAL-URL:https://malobeo.org
X-WR-CALDESC:Veranstaltungen für malobeo – alternatives café und anarchistische bibliothek
BEGIN:VTIMEZONE
TZID:Europe/Berlin
BEGIN:DAYLIGHT
TZOFFSETFROM:+0100
TZOFFSETTO:+0200
TZNAME:CEST
DTSTART:20240331T010000
END:DAYLIGHT
BEGIN:STANDARD
TZOFFSETFROM:+0200
TZOFFSETTO:+0100
TZNAME:CET
DTSTART:20241027T010000
END:STANDARD
END:VTIMEZONE
BEGIN:VEVENT
DTSTART;TZID=Europe/Berlin:20240615T170000
DTEND;TZID=Europe/Berlin:20240615T200000
DTSTAMP:20260420T101602
CREATED:20240601T180844Z
LAST-MODIFIED:20240601T180907Z
UID:3732-1718470800-1718481600@malobeo.org
SUMMARY:15.6: TIAN* KüfA-Kollektiv: malobeo Soli-KüfA
DESCRIPTION:malobeo Soli-KüfA \nSa.\, 15.06.\n17 Uhr- Kochen | cooking\n19 Uhr- Essen | food served\n@malobeo\, Kamenzer Str. 38\, DD \nDas malobeo benötigt finanzielle Unterstützung. Deshalb hat sich das TIAN* Kochteam zusammengesetzt und organisiert eine vegane Soli-KüfA. Alle Spenden gehen direkt ans Malo. \n#access\n⭐️ Es gibt eine mobile Rampe. Ein kleiner Teil des Raumes ist rollstuhlgerecht\, das WC nicht barrierearm |\nThere is a mobile ramp. A small part of the room is wheelchair accessible\, the bathroom isn’t a part ot the accessible part of the room.\n⭐️ all people welcome \nKeine diskriminierende Handlungen erwünscht! \neng.\nmalobeo needs financial support. That’s why the TIAN* cooking team got together and organized a vegan solidarity cooking evening to help the Malobeo. all donations go directly to the Malobeo. \nNo discrimination towards anyone wanted!
URL:https://malobeo.org/event/malo-soli-kuefa/
CATEGORIES:KüfA
ATTACH;FMTTYPE=image/jpeg:https://malobeo.org/wp-content/uploads/2024/06/photo_2024-06-01_20-08-46.jpg
END:VEVENT
END:VCALENDAR