BEGIN:VCALENDAR
VERSION:2.0
PRODID:-//malobeo – alternatives café und anarchistische bibliothek - ECPv5.14.0.1//NONSGML v1.0//EN
CALSCALE:GREGORIAN
METHOD:PUBLISH
X-WR-CALNAME:malobeo – alternatives café und anarchistische bibliothek
X-ORIGINAL-URL:https://malobeo.org
X-WR-CALDESC:Veranstaltungen für malobeo – alternatives café und anarchistische bibliothek
BEGIN:VTIMEZONE
TZID:Europe/Berlin
BEGIN:DAYLIGHT
TZOFFSETFROM:+0100
TZOFFSETTO:+0200
TZNAME:CEST
DTSTART:20220327T010000
END:DAYLIGHT
BEGIN:STANDARD
TZOFFSETFROM:+0200
TZOFFSETTO:+0100
TZNAME:CET
DTSTART:20221030T010000
END:STANDARD
END:VTIMEZONE
BEGIN:VEVENT
DTSTART;TZID=Europe/Berlin:20221018T160000
DTEND;TZID=Europe/Berlin:20221018T230000
DTSTAMP:20260420T104113
CREATED:20221002T175344Z
LAST-MODIFIED:20221002T180701Z
UID:3114-1666108800-1666134000@malobeo.org
SUMMARY:18.10.: Film + Diskussion + KüfA: Repression\, Missbrauch und (sexualisierte) Folter in spanischen Gefängnissen
DESCRIPTION:Tuesdays @malobeo\, Kamenzer Straße 38\, 01099 Dresden\n🔪16:30 – Cooking together / Gemeinsames Kochen\n🌽19:00 – Eating / Essen\n📽 20:00 – Documentary / Dokumentarfilm \nFilm + Diskussionen mit einem ehemaligen politischen Gefangenen aus dem Baskenland \nRepression\, Missbrauch und (sexualisierte) Folter in spanischen Gefängnissen\nRundreise 2022 \nÜber 10.000 politische Gefangene hatte die baskische Unabhängigkeitslinke seit 1960 zu beklagen. Unter ihnen auch zahlreiche Frauen. Die Dokumentation „Bi Arnas“ (baskisch mit deutschen Untertiteln) erzählt die Geschichte von María Nieves Díaz und ihrer gefolterten Tochter Iratxe Sorzabal. \nDie Zahl der Bask:innen\, die von Staat und Militär gefoltert und misshandelt wurden\, geht weit in die Tausende\, obwohl nur wenige von ihnen offiziell anerkannt wurden. Auch heute befinden sich noch immer viele Bask:innen aufgrund von Folteraussagen in Gefangenschaft. \nGemeinsam mit Tomax\, einem ehemaligen politischen Gefangenen aus dem Baskenland\, wollen wir über die aktuelle Situation in Knästen und die baskische Unabhängigkeitslinke im Allgemeinen diskutieren. \nWas können wir lernen? Welche Erfahrungen möchten wir weiter geben? Wie sieht unsere Praxis in Bezug auf politische Gefangene und Repressionen aus? Wie könnte eine Vernetzung politischer Bewegungen aus dem Baskenland und Deutschland aussehen? \n 
URL:https://malobeo.org/event/repression-missbrauch-und-sexualisierte-folter-in-spanischen-gefaengnissen-film-diskussion-kuefa/
CATEGORIES:Antirep,Doku/Film,KüfA,Workshop, Vortrag, Diskussion
ATTACH;FMTTYPE=image/jpeg:https://malobeo.org/wp-content/uploads/2022/10/missbrauch_folter_spanische_gefaengnisse.jpg
END:VEVENT
END:VCALENDAR