BEGIN:VCALENDAR
VERSION:2.0
PRODID:-//malobeo – alternatives café und anarchistische bibliothek - ECPv5.14.0.1//NONSGML v1.0//EN
CALSCALE:GREGORIAN
METHOD:PUBLISH
X-WR-CALNAME:malobeo – alternatives café und anarchistische bibliothek
X-ORIGINAL-URL:https://malobeo.org
X-WR-CALDESC:Veranstaltungen für malobeo – alternatives café und anarchistische bibliothek
BEGIN:VTIMEZONE
TZID:Europe/Berlin
BEGIN:DAYLIGHT
TZOFFSETFROM:+0100
TZOFFSETTO:+0200
TZNAME:CEST
DTSTART:20220327T010000
END:DAYLIGHT
BEGIN:STANDARD
TZOFFSETFROM:+0200
TZOFFSETTO:+0100
TZNAME:CET
DTSTART:20221030T010000
END:STANDARD
END:VTIMEZONE
BEGIN:VEVENT
DTSTART;TZID=Europe/Berlin:20220930T170000
DTEND;TZID=Europe/Berlin:20220930T190000
DTSTAMP:20260420T103443
CREATED:20220921T091135Z
LAST-MODIFIED:20220921T091135Z
UID:3110-1664557200-1664564400@malobeo.org
SUMMARY:SOLIDARITEA: 30.09.
DESCRIPTION:Gemeinsames Briefeschreiben \nTee und Kuchen  \nFreitag\, 30.09.2022\, 17:00 im Malobeo\, Kamenzerstr. 38\, 01099 Dresden \nhttps://abcdd.org/2022/09/20/solidaritea-freitag-30-09-22-im-malobeo/ \nDie soziale Isolation von Freund*innen\, Familie und Gesellschaft ist ein Aspekt des Gefängnisalltags. Es gibt wenige Kommunikationskanäle und kaum Möglichkeiten\, außerhalb der Gefängnismauern in Austausch zu treten. Seit März 2020 hat Covid die soziale Isolation noch verstärkt. \nDas Knastregime ist gewaltvoll und gegenüber politischen Gefangenen oft noch repressiver. \nBriefe schreiben ist daher auch im 21. Jahrhundert\, wo der Großteil unserer Gesellschaft hier fast ausschließlich digital kommuniziert eine überlebensnotwendige Möglichkeit des Austauschs. Briefe bringen Abwechslung in den grauen Knastalltag\, ermöglichen Gespräche\, soziale Interaktion und zeigen das wir unsere Gefährt*innen nicht vergessen haben. Wir geben ihnen Mut sich nicht von dem gewaltvollen Gefängnisalltag unterzukriegen zu lassen. \nDeshalb laden wir euch am Freitag\, den 30. September von 17 – 19 Uhr ins Malobeo zum Solidaritea – dem Briefeschreibcafé ein\, um gemeinsam Briefe an unsere Gefährt*innen im Knast zu schreiben. \nKeine*r ist frei bis nicht alle frei sind! \nBitte testet euch vorher. \n—————————————————————————– \nLetter writing \nTea and cake  \nFriday\, 30.09.2022\, 17:00 Malobeo\, Kamenzerstr. 38\, 01099 Dresden \nhttps://abcdd.org/en/2022/09/20/solidaritea-30-september-2022/ \nWe would like to write letters to people in prison together with you in the context of the International Week of Solidarity with Anarchist Prisoners.\nWe take the Soli-Week as an opportunity to remember our comrades who are in prison for their political struggle and who continue to fight for their ideals there. \nSocial isolation from friends\, family and society is one aspect of everyday life in prison. There are few channels of communication and few opportunities to interact outside the prison walls. The pandemic has reinforced the social isolation since March 2020. \nThe prison regime is violent and often even more repressive toward political prisoners. \nWriting letters is therefore a vital means of exchange even in the 21st century\, when most of our society here communicates almost exclusively digitally. Letters bring variety into the gray everyday life in prison\, enable conversations\, social interaction and show that we have not forgotten our companions. We give them courage not to let the violent prison life get them down. \nTherefore\, we invite you to the Solidaritea – the letter-writing café on Friday\, September 30\, 5 pm at Malobeo\, to write letters together to our companions in prison. \nNo one is free until all are free! \nPlease test yourselves beforehand.
URL:https://malobeo.org/event/solidaritea-30-09/
CATEGORIES:Solidaritea
ATTACH;FMTTYPE=image/jpeg:https://malobeo.org/wp-content/uploads/2022/09/solidaritea_w-scaled-1.jpg
END:VEVENT
END:VCALENDAR