BEGIN:VCALENDAR
VERSION:2.0
PRODID:-//malobeo – alternatives café und anarchistische bibliothek - ECPv5.14.0.1//NONSGML v1.0//EN
CALSCALE:GREGORIAN
METHOD:PUBLISH
X-WR-CALNAME:malobeo – alternatives café und anarchistische bibliothek
X-ORIGINAL-URL:https://malobeo.org
X-WR-CALDESC:Veranstaltungen für malobeo – alternatives café und anarchistische bibliothek
BEGIN:VTIMEZONE
TZID:Europe/Berlin
BEGIN:DAYLIGHT
TZOFFSETFROM:+0100
TZOFFSETTO:+0200
TZNAME:CEST
DTSTART:20210328T010000
END:DAYLIGHT
BEGIN:STANDARD
TZOFFSETFROM:+0200
TZOFFSETTO:+0100
TZNAME:CET
DTSTART:20211031T010000
END:STANDARD
END:VTIMEZONE
BEGIN:VEVENT
DTSTART;TZID=Europe/Berlin:20211029T170000
DTEND;TZID=Europe/Berlin:20211029T190000
DTSTAMP:20260420T112825
CREATED:20211026T192643Z
LAST-MODIFIED:20211107T123727Z
UID:2502-1635526800-1635534000@malobeo.org
SUMMARY:29.10. - Solidaritea: Briefeschreibcafé
DESCRIPTION:Knast basiert auf dem System der Bestrafung. Das bedeutet\, dass soziale Probleme nicht verhandelt\, sondern weggesperrt werden. Begriffe wie Resozialisierung werden zur Farce\, wenn wir uns die Bedingungen in den Gefängnissen ansehen. Die soziale Isolation von Freund*innen\, Familie und Gesellschaft ist ein Aspekt des Gefängnisalltags. Es gibt wenige Kommunikationskanäle und kaum Möglichkeiten\, außerhalb der Gefängnismauern in Austausch zu treten.\n\nHinzu kommt die Pandemie\, die seit März 2020 die soziale Isolation noch verstärkt. Besuche sind eingeschränkt\, teilweise nur hinter Trennwänden und mit Maske möglich\, Telefonieren ist unglaublich teuer und digitale Kommunikationsmöglichkeiten wie Skypegespräche nur eingeschränkt möglich.\n\nBriefe schreiben ist daher auch im 21. Jahrhundert\, wo der Großteil unserer Gesellschaft hier fast ausschließlich digital kommuniziert eine überlebensnotwendige Möglichkeit des Austauschs.\nBriefe bringen Abwechslung in den grauen Knastalltag\, ermöglichen Gespräche\, soziale Interaktion und sind oft ein Anker für Menschen im Knast das triste Leben drinnen zu durchstehen.\n\nDeshalb laden wir euch am Freitag\, den 29. Oktober\, 17 Uhr ins Malobeo zum Solidaritea – dem Briefeschreibcafé ein\, um gemeinsam Briefe an Menschen im Knast zu schreiben.
URL:https://malobeo.org/event/solidaritea-briefeschreibcafe/
ATTACH;FMTTYPE=image/jpeg:https://malobeo.org/wp-content/uploads/2020/10/solidaritea_w-604x270.jpg
END:VEVENT
END:VCALENDAR