BEGIN:VCALENDAR
VERSION:2.0
PRODID:-//malobeo – alternatives café und anarchistische bibliothek - ECPv5.14.0.1//NONSGML v1.0//EN
CALSCALE:GREGORIAN
METHOD:PUBLISH
X-WR-CALNAME:malobeo – alternatives café und anarchistische bibliothek
X-ORIGINAL-URL:https://malobeo.org
X-WR-CALDESC:Veranstaltungen für malobeo – alternatives café und anarchistische bibliothek
BEGIN:VTIMEZONE
TZID:Europe/Berlin
BEGIN:DAYLIGHT
TZOFFSETFROM:+0100
TZOFFSETTO:+0200
TZNAME:CEST
DTSTART:20220327T010000
END:DAYLIGHT
BEGIN:STANDARD
TZOFFSETFROM:+0200
TZOFFSETTO:+0100
TZNAME:CET
DTSTART:20221030T010000
END:STANDARD
END:VTIMEZONE
BEGIN:VEVENT
DTSTART;TZID=Europe/Berlin:20221127T153000
DTEND;TZID=Europe/Berlin:20221127T180000
DTSTAMP:20260420T141515
CREATED:20221124T145147Z
LAST-MODIFIED:20221124T145344Z
UID:3167-1669563000-1669572000@malobeo.org
SUMMARY:27.11.22: Tierbefreiung DD: Lesekreis - Datenschutz
DESCRIPTION:Liebe Freund*innen\, Unterstützer*innen und Interessierte\, \nwir laden euch ganz herzlich zu unserem Lesekreis im November 2022 ein. Wir widmen uns dabei dem Thema Datenschutz. \n\nWann? Sonntag\, 27. November 2022\, 15:30-18 Uhr\nWo? malobeo\, Kamenzer Straße 38\, 01099 Dresden oder digital\n\nAbstract: \nMit zunehmender Digitalisierung ist auch die Tierbefreiungsbewegung konfrontiert. Smartphones\, soziale Medien\, Messenger\, Internetrecherche\, Podcasts und Onlinemeetings sind heute an der Tagesordnung. Neben den Möglichkeiten\, die digitale Mittel bieten\, steigen auch die Risiken für Datenkontrolle und Repression. Besonders Aktivist*innen sozialer Bewegungen muss die digitale Sicherheit ans Herz gelegt werden.\nIn unserem Lesekreis wollen wir deshalb die Frage klären\, warum Datenschutz auch in der Tierbefreiung ein hoher Stellenwert zukommt und wie wir uns mit Softwarewahl\, sicheren Passwörtern\, Verschlüsselungen u.a. absichern können. Wir lernen\, welche Einstellungen dafür anzupassen sind und setzen das gleich in die Praxis um. Wenn du willst\, bringe gern dein persönliches Endgerät mit\, damit du es direkt anwenden kannst. \nHybridveranstaltung: Unser nächster Lesekreis wird wieder im Malobeo stattfinden. Falls ihr online dabei sein wollt\, meldet euch bitte unter tierbefreiung_dd@riseup.net \, dann schicken wir euch den Text als pdf. und die Einwahldaten für den Telko-Raum zu. Die datenschutzsichere Einrichtung eures Notebooks könnt ihr auch zu Hause vornehmen. \nHinweis: Wir möchten mit dem Thema Corona weiterhin verantwortungsvoll umgehen. Bei schönem Wetter können wir den Lesekreis im Garten vom Malobeo stattfinden lassen. Da nach unserem Lesekreis eine weitere Gruppe die Räumlichkeiten im Malobeo nutzt\, bitten wir euch im Malobeo eine Mund- & Nasenbedeckung zu tragen und auf die anderen Teilnehmenden Rücksicht zu nehmen. Falls ihr Erkältungssymptome habt\, nutzt bitte das digitale Angebot. \n  \nMore than Words \nIn regelmäßigen Lesekreisen wollen wir uns mit Büchern\, Aufsätzen\, Texten und Schriften zum Mensch-Tier-Verhältnis beschäftigen. Wir möchten sowohl Geschichte als auch aktuelle Diskussionen aufgreifen\, gemeinsam mit euch lesen und in entspannter Atmosphäre mit euch durchdenken. Es ist nicht notwendig den Text im Vorfeld zu lesen. Dafür nehmen wir uns während des Lesekreises Zeit. Wer aber vorher schon lesen möchte\, kann dies gern tun. \nAußerdem wird es Kuchen\, Kaffee und Tee geben. Unsere Lesekreise sind einsteiger*innenfreundlich gestaltet und es sind keine besonderen Vorkenntnisse nötig. Der Lesekreis soll auch dazu genutzt werden\, um uns besser kennenzulernen und sich gegenseitig auszutauschen. Wenn du Lust hast mitzumachen oder dir den Lesekreis einfach mal angucken möchtest\, komm gerne vorbei. \nAlle Infos findet ihr bald auch auf unserer Website: http://tierbefreiung-dresden.org/ \nWir freuen uns auf euch. \nEure tierbefreiung dresden
URL:https://malobeo.org/event/tierbefreiung-dd-lesekreis-datenschutz-27-11-22/
CATEGORIES:Lesekreis,Tierbefreiung Dresden
ATTACH;FMTTYPE=image/jpeg:https://malobeo.org/wp-content/uploads/2022/11/bb_datenkontrolle.jpg
END:VEVENT
END:VCALENDAR