BEGIN:VCALENDAR
VERSION:2.0
PRODID:-//malobeo – alternatives café und anarchistische bibliothek - ECPv5.14.0.1//NONSGML v1.0//EN
CALSCALE:GREGORIAN
METHOD:PUBLISH
X-WR-CALNAME:malobeo – alternatives café und anarchistische bibliothek
X-ORIGINAL-URL:https://malobeo.org
X-WR-CALDESC:Veranstaltungen für malobeo – alternatives café und anarchistische bibliothek
BEGIN:VTIMEZONE
TZID:Europe/Berlin
BEGIN:DAYLIGHT
TZOFFSETFROM:+0100
TZOFFSETTO:+0200
TZNAME:CEST
DTSTART:20220327T010000
END:DAYLIGHT
BEGIN:STANDARD
TZOFFSETFROM:+0200
TZOFFSETTO:+0100
TZNAME:CET
DTSTART:20221030T010000
END:STANDARD
END:VTIMEZONE
BEGIN:VEVENT
DTSTART;TZID=Europe/Berlin:20221007T170000
DTEND;TZID=Europe/Berlin:20221007T210000
DTSTAMP:20260420T120348
CREATED:20221002T180537Z
LAST-MODIFIED:20221002T180640Z
UID:3123-1665162000-1665176400@malobeo.org
SUMMARY:07.10.:TIN*-KüfA (trans*\, inter\, non-binary)
DESCRIPTION:++ Trans-Inter-Nonbinary KüfA ++ \n_\nFreitag\, 07.10.22\n🔪🔪 17 Uhr – gemeinsames Kochen | cooking\n🌮🌮 19 Uhr – Essen | eating\n🏴🏴 @malobeo\, Kamenzer Str. 38 Dresden\n__ \nWe are taking our space!\nIhr seid alle eingeladen zur TIN*only-KüfA (Trans*inter*nonbinary) am 01.07.22\, 19:00 Uhr im @malobeo.\nEs wird leckeres veganes Essen geben und ganz viele neue connections. Wenn du einfach mal Lust hast\, mit anderen TIN-Menschen abzuhängen\, dich über Themen austauschen willst oder einfach nur Bock auf gutes Essen hast: komm vorbei and bring your friends! 🏳‍⚧🏳‍🌈 \nWir freuen uns auf dich\, lass uns chillen und uns kennenlernen! \n#access\n⭐️ Es gibt eine Rampe. Ein Teil des Raumes ist rollstuhlgerecht\, das WC nicht barrierearm.\n⭐️ TIN*only\n⭐️ kommt bitte getestet und mit FFP2 Maske \nWir haben keinen Bock auf Transfeindlichkeit\, Homophobie\, Rassismus\, Ableismus\, Antisemitismus. \n___ en _ \nWe are taking our space!\nYou are all invited to the TIN*only-KüfA (Trans*inter*nonbinary) on 07.10.22\, 19:00 at @malobeo.\nThere will be delicious vegan food and a whole lot of new connections. If you just want to hang out with other trans* & inter people\, talk about topics or just want to have some good food: come by and bring your friends! ⚧🌈 \nWe look forward to seeing you\, let’s chill and get to know each other! \n#access\n⭐️ There is a ramp. Part of the room is wheelchair accessible\, the toilet is not accessible.\n⭐️ TIN*only\n⭐️ please come tested and with FFP2 mask. \nWe don’t tolerate any bullshit about transphobia\, homophobia\, racism\, Ableism\, anti-semitism.
URL:https://malobeo.org/event/tin-kuefa-trans-inter-non-binary/
ATTACH;FMTTYPE=image/jpeg:https://malobeo.org/wp-content/uploads/2022/10/tin_kuefa_07_10_22.jpg
END:VEVENT
END:VCALENDAR