BEGIN:VCALENDAR
VERSION:2.0
PRODID:-//malobeo – alternatives café und anarchistische bibliothek - ECPv5.14.0.1//NONSGML v1.0//EN
CALSCALE:GREGORIAN
METHOD:PUBLISH
X-WR-CALNAME:malobeo – alternatives café und anarchistische bibliothek
X-ORIGINAL-URL:https://malobeo.org
X-WR-CALDESC:Veranstaltungen für malobeo – alternatives café und anarchistische bibliothek
BEGIN:VTIMEZONE
TZID:Europe/Berlin
BEGIN:DAYLIGHT
TZOFFSETFROM:+0100
TZOFFSETTO:+0200
TZNAME:CEST
DTSTART:20210328T010000
END:DAYLIGHT
BEGIN:STANDARD
TZOFFSETFROM:+0200
TZOFFSETTO:+0100
TZNAME:CET
DTSTART:20211031T010000
END:STANDARD
END:VTIMEZONE
BEGIN:VEVENT
DTSTART;TZID=Europe/Berlin:20210912T140000
DTEND;TZID=Europe/Berlin:20210912T170000
DTSTAMP:20260423T141158
CREATED:20210908T163346Z
LAST-MODIFIED:20210908T163914Z
UID:2457-1631455200-1631466000@malobeo.org
SUMMARY:12.09. - Was Tiere wirklich wollen
DESCRIPTION:Wir laden euch herzlich zu unserem Lesekreis im September ein. Dieses mal stellen wir euch das Buch „Was Tiere wirklich wollen – Eine Streitschrift über politische Tiere und tierische Politik“ von Eva Meijer vor. \nWann? Sonntag\, 12.September 2021\, 14-17 Uhr\nWo? Malobeo\, Kamenzer Straße 38\, 01099 Dresden oder digital \nBienen diskutieren\, wen sie angreifen sollen. Gänse haben territoriale Koflikte mit Menschen. Gefangene Orkas töten ihre Trainer*innen. Kamele weigern sich\, für die Armee zu arbeiten. Biber helfen Bauern bei Überschwemmungen. Tiere sind Wesen mit Gedanken und Gefühlen\, nicht weniger intelligent oder weniger wert als der Mensch – ein einleuchtendes und mitreißendes Plädoyer für ein radikales Umdenken in unserem Verhältnis zu den nichtmenschlichen Bewohner*innen unseres Planeten. In ihrem wissenschaftlich fundierten Buch und mit wunderbar anschaulichen Beispielen geht die Philosophin Eva Meijer der Frage nach\, inwieweit Tiere als politisch handelnde Wesen betrachtet werden müssen und was das für unseren Umgang mit Tieren\, für die Politik und die gesellschaftlichen Machtverhältnisse bedeutet. Können wir sie als unsere nichtmenschlichen Mitbürger*innen begreifen\, eine neue Art von Demokratie schaffen? Müssen wir Fragen der Ethik und Moral neu definieren? Und was wollen Tiere wirklich? \nUnseren nächsten Lesekreis werden wir im Garten vom Malobeo stattfinden lassen. Falls ihr online dabei sein wollt\, meldet euch bitte unter tierbefreiung_dd@riseup.net\, dann finden wir auch eine Möglichkeit sich online dazu zuschalten. \nHinweis: Wir bitten euch im Malobeo eine Mund-& Nasenbedeckung zu tragen und auf die anderen Teilnehmenden Rücksicht zu nehmen. \nHintergrund: In regelmäßigen Lesekreisen wollen wir uns mit Büchern\, Aufsätzen\, Texten und Schriften zum Mensch-Tier-Verhältnis beschäftigen. Wir möchten sowohl Geschichte als auch aktuelle Diskussionen aufgreifen\, gemeinsam mit euch lesen und in entspannter Atmosphäre mit euch durchdenken. Außerdem wird es Kuchen\, Kaffee und Tee geben. Unsere Lesekreise sind einsteiger*innenfreundlich gestaltet und es sind keine besonderen Vorkenntnisse nötig. Der Lesekreis soll auch dazu genutzt werden\, um uns besser kennenzulernen und sich gegenseitig auszutauschen. Wenn du Lust hast mitzumachen oder dir den Lesekreis einfach mal angucken möchtest\, komm gerne vorbei.
URL:https://malobeo.org/event/was-tiere-wirklich-wollen/
LOCATION:malobeo
CATEGORIES:Tierbefreiung Dresden
ATTACH;FMTTYPE=image/jpeg:https://malobeo.org/wp-content/uploads/2021/09/bb_eva_meijer.jpg
END:VEVENT
END:VCALENDAR