BEGIN:VCALENDAR
VERSION:2.0
PRODID:-//malobeo – alternatives café und anarchistische bibliothek - ECPv5.14.0.1//NONSGML v1.0//EN
CALSCALE:GREGORIAN
METHOD:PUBLISH
X-WR-CALNAME:malobeo – alternatives café und anarchistische bibliothek
X-ORIGINAL-URL:https://malobeo.org
X-WR-CALDESC:Veranstaltungen für malobeo – alternatives café und anarchistische bibliothek
BEGIN:VTIMEZONE
TZID:Europe/Berlin
BEGIN:DAYLIGHT
TZOFFSETFROM:+0100
TZOFFSETTO:+0200
TZNAME:CEST
DTSTART:20200329T010000
END:DAYLIGHT
BEGIN:STANDARD
TZOFFSETFROM:+0200
TZOFFSETTO:+0100
TZNAME:CET
DTSTART:20201025T010000
END:STANDARD
END:VTIMEZONE
BEGIN:VEVENT
DTSTART;TZID=Europe/Berlin:20200310T180000
DTEND;TZID=Europe/Berlin:20200310T220000
DTSTAMP:20260420T152851
CREATED:20200310T154905Z
LAST-MODIFIED:20200310T154905Z
UID:1703-1583863200-1583877600@malobeo.org
SUMMARY:Wir sind da / Chill out
DESCRIPTION:Heute abend freuen wir uns euch zu treffen und uns einander zuzuhören. \n__________________________________________________________ \nThis Evening we just wanna hanging out.
URL:https://malobeo.org/event/wir-sind-da-chill-out/
ATTACH;FMTTYPE=image/jpeg:https://malobeo.org/wp-content/uploads/2020/03/chill.jpg
END:VEVENT
END:VCALENDAR