BEGIN:VCALENDAR
VERSION:2.0
PRODID:-//malobeo – alternatives café und anarchistische bibliothek - ECPv5.14.0.1//NONSGML v1.0//EN
CALSCALE:GREGORIAN
METHOD:PUBLISH
X-WR-CALNAME:malobeo – alternatives café und anarchistische bibliothek
X-ORIGINAL-URL:https://malobeo.org
X-WR-CALDESC:Veranstaltungen für malobeo – alternatives café und anarchistische bibliothek
BEGIN:VTIMEZONE
TZID:Europe/Berlin
BEGIN:DAYLIGHT
TZOFFSETFROM:+0100
TZOFFSETTO:+0200
TZNAME:CEST
DTSTART:20180325T010000
END:DAYLIGHT
BEGIN:STANDARD
TZOFFSETFROM:+0200
TZOFFSETTO:+0100
TZNAME:CET
DTSTART:20181028T010000
END:STANDARD
END:VTIMEZONE
BEGIN:VEVENT
DTSTART;TZID=Europe/Berlin:20180209T193000
DTEND;TZID=Europe/Berlin:20180209T220000
DTSTAMP:20260423T100948
CREATED:20180131T143341Z
LAST-MODIFIED:20180210T212835Z
UID:252-1518204600-1518213600@malobeo.org
SUMMARY:9.2.2018 – Workshop & KüfA: Kritik am Bedingungslosen Grundeinkommen
DESCRIPTION:Das Bedingungslose Grundeinkommen ist eine populäre Forderung. Verschiedene Parteien haben sie im Bundeswahlkampf aufgegriffen\, im Feuilleton wird das Thema rauf und runter diskutiert. Im Laufe der Auseinandersetzung\, wurde das Bedingungslose Grundeinkommen nach und nach zu einer idealisierten Universallösung für soziale Widersprüche stilisiert. Aber wird dieses Konzept den Erwartungen\, die hinein projiziert werden überhaupt gerecht? Ist das Modell des BGE überhaupt neu? Wie sozial ist es wirklich und kann es aus radikal linker Perspektive überhaupt als zielführend begriffen werden? Der Vortrag soll diese und andere Fragen zum BGE beantworten\, erläutern\, wie die Modelle bedingungsloser Grundeinkommen überhaupt funktionieren und einen kritischen Blick auf das Modethema „BGE“ werfen. \nKüche für alle: 19:30 Uhr\nVortrag: 20:30 Uhr
URL:https://malobeo.org/event/workshop-kuefa-kritik-am-bedingungslosen-grundeinkommen/
LOCATION:malobeo\, Kamenzer Straße 38\, Dresden\, Sucksen\, 01099\, Germany
ATTACH;FMTTYPE=image/jpeg:https://malobeo.org/wp-content/uploads/2018/01/27654856_1191726690959134_3026392270582276474_n.jpg
END:VEVENT
END:VCALENDAR